BEGIN:VCALENDAR
VERSION:2.0
PRODID:spatie/icalendar-generator
DESCRIPTION:Veranstaltungen von Dekohäusle_25
X-WR-CALDESC:Veranstaltungen von Dekohäusle_25
REFRESH-INTERVAL;VALUE=DURATION:PT1440M
X-PUBLISHED-TTL:PT1440M
BEGIN:VTIMEZONE
TZID:Europe/Berlin
BEGIN:DAYLIGHT
DTSTART:20170326T020000Z
TZOFFSETFROM:+0100
TZOFFSETTO:+0200
END:DAYLIGHT
BEGIN:STANDARD
DTSTART:20171029T030000Z
TZOFFSETFROM:+0200
TZOFFSETTO:+0100
END:STANDARD
BEGIN:DAYLIGHT
DTSTART:20180325T020000Z
TZOFFSETFROM:+0100
TZOFFSETTO:+0200
END:DAYLIGHT
END:VTIMEZONE
BEGIN:VTIMEZONE
TZID:UTC
BEGIN:STANDARD
DTSTART:20250725T085045Z
TZOFFSETFROM:+0000
TZOFFSETTO:+0000
END:STANDARD
END:VTIMEZONE
BEGIN:VEVENT
UID:83-64
DTSTAMP:20260421T085045Z
SUMMARY:Weihnachtsmarkt Pfullingen
LOCATION:Ortszentrum Pfullingen   Pfullingen  72793
ORGANIZER;CN=Jörg Fischer:MAILTO:dekohaeusle@t-online.de
DTSTART;TZID=Europe/Berlin;VALUE=DATE:20171201
DTEND;TZID=Europe/Berlin;VALUE=DATE:20171204
X-ALT-DESC;FMTTYPE=TEXT/HTML:Rund um den Marktplatz und die Kirche findet d
 ieser Markt von Freitag bis Sonntag statt. Wir sind diesmal schon zum zwei
 ten Mal dabei.
CATEGORIES:Dekohäusle
URL;VALUE=URI:https://www.dekohaeusle.de/mc-events/weihnachtsmarkt-pfulling
 en/?mc_id=83
END:VEVENT
END:VCALENDAR