BEGIN:VCALENDAR
VERSION:2.0
PRODID:spatie/icalendar-generator
DESCRIPTION:Veranstaltungen von Dekohäusle_25
X-WR-CALDESC:Veranstaltungen von Dekohäusle_25
REFRESH-INTERVAL;VALUE=DURATION:PT1440M
X-PUBLISHED-TTL:PT1440M
BEGIN:VTIMEZONE
TZID:Europe/Berlin
BEGIN:STANDARD
DTSTART:20231029T030000Z
TZOFFSETFROM:+0200
TZOFFSETTO:+0100
END:STANDARD
BEGIN:DAYLIGHT
DTSTART:20240331T020000Z
TZOFFSETFROM:+0100
TZOFFSETTO:+0200
END:DAYLIGHT
BEGIN:STANDARD
DTSTART:20241027T030000Z
TZOFFSETFROM:+0200
TZOFFSETTO:+0100
END:STANDARD
END:VTIMEZONE
BEGIN:VTIMEZONE
TZID:UTC
BEGIN:STANDARD
DTSTART:20250723T143315Z
TZOFFSETFROM:+0000
TZOFFSETTO:+0000
END:STANDARD
END:VTIMEZONE
BEGIN:VEVENT
UID:414-287
DTSTAMP:20260419T143315Z
SUMMARY:Türkheimer Töpfer- und Kunstmarkt (Achtung!!! Donnerstag 02.05. k
 ein Markt)
LOCATION:Schlossgarten Türkheim Bad Wörrishofener Str.  Türkheim  86842
ORGANIZER;CN=0Blume:MAILTO:elmi1207@googlemail.com
DTSTART;TZID=Europe/Berlin;VALUE=DATE:20240501
DTEND;TZID=Europe/Berlin;VALUE=DATE:20240506
X-ALT-DESC;FMTTYPE=TEXT/HTML:Immer am ersten Mai startet der Türkheimer T
 öpfermarkt. Im Schlossgarten präsentieren sich fast 100 Aussteller aus g
 anz Deutschland. Umrahmt wird diese Ausstellung von Live Musik\, Verlosakt
 ion und einem großen Kinderprogramm. Ein Event für die ganze Familie...E
 mil hat wieder Alles bestens organisiert.   Bitte beachten!!   Donnert
 sag ist die Ausstellung geschlossen. &amp;nbsp\;
CATEGORIES:Dekohäusle
URL;VALUE=URI:https://www.dekohaeusle.de/mc-events/tuerkheimer-toepfer-und-
 kunstmarkt-achtung-donnerstag-02-05-kein-markt/?mc_id=414
END:VEVENT
END:VCALENDAR