BEGIN:VCALENDAR
VERSION:2.0
PRODID:spatie/icalendar-generator
DESCRIPTION:Veranstaltungen von Dekohäusle_25
X-WR-CALDESC:Veranstaltungen von Dekohäusle_25
REFRESH-INTERVAL;VALUE=DURATION:PT1440M
X-PUBLISHED-TTL:PT1440M
BEGIN:VTIMEZONE
TZID:Europe/Berlin
BEGIN:STANDARD
DTSTART:20231029T030000Z
TZOFFSETFROM:+0200
TZOFFSETTO:+0100
END:STANDARD
BEGIN:DAYLIGHT
DTSTART:20240331T020000Z
TZOFFSETFROM:+0100
TZOFFSETTO:+0200
END:DAYLIGHT
BEGIN:STANDARD
DTSTART:20241027T030000Z
TZOFFSETFROM:+0200
TZOFFSETTO:+0100
END:STANDARD
END:VTIMEZONE
BEGIN:VTIMEZONE
TZID:UTC
BEGIN:STANDARD
DTSTART:20250727T183033Z
TZOFFSETFROM:+0000
TZOFFSETTO:+0000
END:STANDARD
END:VTIMEZONE
BEGIN:VEVENT
UID:420-293
DTSTAMP:20260423T183033Z
SUMMARY:Rosenmarkt Mössingen &amp;amp\; Kunstgalerie
LOCATION:Jakob-Stotz-Platz Breitestraße  Mössingen  72116
ORGANIZER;CN=0Blume:MAILTO:elmi1207@googlemail.com
DTSTART;TZID=Europe/Berlin:20240623T000000
DTEND;TZID=Europe/Berlin:20240623T010000
X-ALT-DESC;FMTTYPE=TEXT/HTML:Bereits zum 23. Mal findet am vorletzten Sonnt
 ag im Juni der Mössinger Rosenmarkt und Kunstgalerie statt. Über 150 Aus
 steller sind dieses Jahr mit dabei.Wir stehen wie gewohnt auf der zentrale
 n großen Rasenfläche.
CATEGORIES:Dekohäusle
URL;VALUE=URI:https://www.dekohaeusle.de/mc-events/rosenmarkt-moessingen-ku
 nstgalerie/?mc_id=420
END:VEVENT
END:VCALENDAR