BEGIN:VCALENDAR
VERSION:2.0
PRODID:spatie/icalendar-generator
DESCRIPTION:Veranstaltungen von Dekohäusle_25
X-WR-CALDESC:Veranstaltungen von Dekohäusle_25
REFRESH-INTERVAL;VALUE=DURATION:PT1440M
X-PUBLISHED-TTL:PT1440M
BEGIN:VTIMEZONE
TZID:Europe/Berlin
BEGIN:STANDARD
DTSTART:20231029T030000Z
TZOFFSETFROM:+0200
TZOFFSETTO:+0100
END:STANDARD
BEGIN:DAYLIGHT
DTSTART:20240331T020000Z
TZOFFSETFROM:+0100
TZOFFSETTO:+0200
END:DAYLIGHT
BEGIN:STANDARD
DTSTART:20241027T030000Z
TZOFFSETFROM:+0200
TZOFFSETTO:+0100
END:STANDARD
END:VTIMEZONE
BEGIN:VTIMEZONE
TZID:UTC
BEGIN:STANDARD
DTSTART:20250727T102912Z
TZOFFSETFROM:+0000
TZOFFSETTO:+0000
END:STANDARD
END:VTIMEZONE
BEGIN:VEVENT
UID:416-289
DTSTAMP:20260423T102912Z
SUMMARY:Pfingstmarkt Laichingen
LOCATION:Laichingen Weberstraße  Laichingen  89150
ORGANIZER;CN=0Blume:MAILTO:elmi1207@googlemail.com
DTSTART;TZID=Europe/Berlin;VALUE=DATE:20240520
DTEND;TZID=Europe/Berlin;VALUE=DATE:20240521
X-ALT-DESC;FMTTYPE=TEXT/HTML:Traditionell am Pfingstmontag findet in Laichi
 ngen der große Pfingstmarkt mit Flohmarkt statt. Wir stehen wie immer in 
 der Weberstasse 31\, perfekt um dort mit dem Auto zu halten...
CATEGORIES:Dekohäusle
URL;VALUE=URI:https://www.dekohaeusle.de/mc-events/pfingstmarkt-laichingen-
 4/?mc_id=416
END:VEVENT
END:VCALENDAR