BEGIN:VCALENDAR
VERSION:2.0
PRODID:spatie/icalendar-generator
DESCRIPTION:Veranstaltungen von Dekohäusle_25
X-WR-CALDESC:Veranstaltungen von Dekohäusle_25
REFRESH-INTERVAL;VALUE=DURATION:PT1440M
X-PUBLISHED-TTL:PT1440M
BEGIN:VTIMEZONE
TZID:Europe/Berlin
BEGIN:STANDARD
DTSTART:20251026T030000Z
TZOFFSETFROM:+0200
TZOFFSETTO:+0100
END:STANDARD
BEGIN:DAYLIGHT
DTSTART:20260329T020000Z
TZOFFSETFROM:+0100
TZOFFSETTO:+0200
END:DAYLIGHT
END:VTIMEZONE
BEGIN:VTIMEZONE
TZID:UTC
BEGIN:STANDARD
DTSTART:20250729T135550Z
TZOFFSETFROM:+0000
TZOFFSETTO:+0000
END:STANDARD
END:VTIMEZONE
BEGIN:VEVENT
UID:473-346
DTSTAMP:20260425T135550Z
SUMMARY:Ostermarkt Tuttlingen
LOCATION:Tuttlingen Zentrum   Tuttlingen  78532
ORGANIZER;CN=Jörg Fischer:MAILTO:dekohaeusle@t-online.de
DTSTART;TZID=Europe/Berlin:20260404T000000
DTEND;TZID=Europe/Berlin:20260404T010000
X-ALT-DESC;FMTTYPE=TEXT/HTML:Wie immer am Ostersamstag stehen wir auf dem O
 stermarkt im Zentrum von Tuttlingen\, bestens organisiert vom Stiefel\, li
 ebe Grüße.
CATEGORIES:Dekohäusle
URL;VALUE=URI:https://www.dekohaeusle.de/mc-events/ostermarkt-tuttlingen-9/
 ?mc_id=473
END:VEVENT
END:VCALENDAR