BEGIN:VCALENDAR
VERSION:2.0
PRODID:spatie/icalendar-generator
DESCRIPTION:Veranstaltungen von Dekohäusle_25
X-WR-CALDESC:Veranstaltungen von Dekohäusle_25
REFRESH-INTERVAL;VALUE=DURATION:PT1440M
X-PUBLISHED-TTL:PT1440M
BEGIN:VTIMEZONE
TZID:Europe/Berlin
BEGIN:STANDARD
DTSTART:20251026T030000Z
TZOFFSETFROM:+0200
TZOFFSETTO:+0100
END:STANDARD
BEGIN:DAYLIGHT
DTSTART:20260329T020000Z
TZOFFSETFROM:+0100
TZOFFSETTO:+0200
END:DAYLIGHT
END:VTIMEZONE
BEGIN:VTIMEZONE
TZID:UTC
BEGIN:STANDARD
DTSTART:20250729T135523Z
TZOFFSETFROM:+0000
TZOFFSETTO:+0000
END:STANDARD
END:VTIMEZONE
BEGIN:VEVENT
UID:475-348
DTSTAMP:20260425T135523Z
SUMMARY:Ostermarkt Laichingen
LOCATION:Laichingen Weberstraße  Laichingen  89150
ORGANIZER;CN=Jörg Fischer:MAILTO:dekohaeusle@t-online.de
DTSTART;TZID=Europe/Berlin:20260406T000000
DTEND;TZID=Europe/Berlin:20260406T010000
X-ALT-DESC;FMTTYPE=TEXT/HTML:Ostermontag sind wir wieder in Laichingen. Wir
  stehen in der Weberstrasse\, direkt gegenüber vom Reisebüro in der Kurv
 e.
CATEGORIES:Dekohäusle
URL;VALUE=URI:https://www.dekohaeusle.de/mc-events/ostermarkt-laichingen-6/
 ?mc_id=475
END:VEVENT
END:VCALENDAR