BEGIN:VCALENDAR
VERSION:2.0
PRODID:spatie/icalendar-generator
DESCRIPTION:Veranstaltungen von Dekohäusle_25
X-WR-CALDESC:Veranstaltungen von Dekohäusle_25
REFRESH-INTERVAL;VALUE=DURATION:PT1440M
X-PUBLISHED-TTL:PT1440M
BEGIN:VTIMEZONE
TZID:Europe/Berlin
BEGIN:DAYLIGHT
DTSTART:20240331T020000Z
TZOFFSETFROM:+0100
TZOFFSETTO:+0200
END:DAYLIGHT
BEGIN:STANDARD
DTSTART:20241027T030000Z
TZOFFSETFROM:+0200
TZOFFSETTO:+0100
END:STANDARD
END:VTIMEZONE
BEGIN:VTIMEZONE
TZID:UTC
BEGIN:STANDARD
DTSTART:20250727T233131Z
TZOFFSETFROM:+0000
TZOFFSETTO:+0000
END:STANDARD
END:VTIMEZONE
BEGIN:VEVENT
UID:427-300
DTSTAMP:20260423T233131Z
SUMMARY:Missener Kirbe
LOCATION:Zentrum Missen   Missen Wilhams  87547
ORGANIZER;CN=0Blume:MAILTO:elmi1207@googlemail.com
DTSTART;TZID=Europe/Berlin;VALUE=DATE:20240901
DTEND;TZID=Europe/Berlin;VALUE=DATE:20240902
X-ALT-DESC;FMTTYPE=TEXT/HTML:Nur am Sonntag findet in Missen-Willhams die d
 iesjährige Kirbe im gesamten Ort statt. Wir freuen uns auf schönes Wette
 r und viele Besucher.
CATEGORIES:Dekohäusle
URL;VALUE=URI:https://www.dekohaeusle.de/mc-events/missener-kirbe-2/?mc_id=
 427
END:VEVENT
END:VCALENDAR