BEGIN:VCALENDAR
VERSION:2.0
PRODID:spatie/icalendar-generator
DESCRIPTION:Veranstaltungen von Dekohäusle_25
X-WR-CALDESC:Veranstaltungen von Dekohäusle_25
REFRESH-INTERVAL;VALUE=DURATION:PT1440M
X-PUBLISHED-TTL:PT1440M
BEGIN:VTIMEZONE
TZID:Europe/Berlin
BEGIN:STANDARD
DTSTART:20231029T030000Z
TZOFFSETFROM:+0200
TZOFFSETTO:+0100
END:STANDARD
BEGIN:DAYLIGHT
DTSTART:20240331T020000Z
TZOFFSETFROM:+0100
TZOFFSETTO:+0200
END:DAYLIGHT
BEGIN:STANDARD
DTSTART:20241027T030000Z
TZOFFSETFROM:+0200
TZOFFSETTO:+0100
END:STANDARD
END:VTIMEZONE
BEGIN:VTIMEZONE
TZID:UTC
BEGIN:STANDARD
DTSTART:20250725T115525Z
TZOFFSETFROM:+0000
TZOFFSETTO:+0000
END:STANDARD
END:VTIMEZONE
BEGIN:VEVENT
UID:415-288
DTSTAMP:20260421T115525Z
SUMMARY:Memmingen blüht
LOCATION:Karstadt   Memmingen
ORGANIZER;CN=0Blume:MAILTO:elmi1207@googlemail.com
DTSTART;TZID=Europe/Berlin;VALUE=DATE:20240511
DTEND;TZID=Europe/Berlin;VALUE=DATE:20240512
X-ALT-DESC;FMTTYPE=TEXT/HTML:Est ist wieder soweit\, immer am Samstag vor M
 uttertag findet in Memmingen der Familienspass für groß und klein statt.
  Unter dem Motto \" Memmingen blüht\" finden in der gesamten Innenstadt v
 erschiedene Aktionen für jung und alt statt. Wir stehen wie immer gegenü
 ber ehemals Karstadt am unteren Eingang bei der Aktionsbühne.
CATEGORIES:Dekohäusle
URL;VALUE=URI:https://www.dekohaeusle.de/mc-events/memmingen-blueht-5/?mc_i
 d=415
END:VEVENT
END:VCALENDAR