BEGIN:VCALENDAR
VERSION:2.0
PRODID:spatie/icalendar-generator
DESCRIPTION:Veranstaltungen von Dekohäusle_25
X-WR-CALDESC:Veranstaltungen von Dekohäusle_25
REFRESH-INTERVAL;VALUE=DURATION:PT1440M
X-PUBLISHED-TTL:PT1440M
BEGIN:VTIMEZONE
TZID:Europe/Berlin
BEGIN:DAYLIGHT
DTSTART:20240331T020000Z
TZOFFSETFROM:+0100
TZOFFSETTO:+0200
END:DAYLIGHT
BEGIN:STANDARD
DTSTART:20241027T030000Z
TZOFFSETFROM:+0200
TZOFFSETTO:+0100
END:STANDARD
END:VTIMEZONE
BEGIN:VTIMEZONE
TZID:UTC
BEGIN:STANDARD
DTSTART:20250727T183128Z
TZOFFSETFROM:+0000
TZOFFSETTO:+0000
END:STANDARD
END:VTIMEZONE
BEGIN:VEVENT
UID:424-297
DTSTAMP:20260423T183128Z
SUMMARY:Kunstmarkt Schwangau
LOCATION:Schlossbrauerei   Schwangau  87645
ORGANIZER;CN=0Blume:MAILTO:elmi1207@googlemail.com
DTSTART;TZID=Europe/Berlin;VALUE=DATE:20240815
DTEND;TZID=Europe/Berlin;VALUE=DATE:20240819
X-ALT-DESC;FMTTYPE=TEXT/HTML:In Sichtweite der Königsschlösser stehen wir
  vor dem umgebauten Bräuhaus in Schwangau. Durch den Feiertag Mariä Himm
 elfahrt geht die Ausstellung von Donnerstag bis Sonntag.
CATEGORIES:Dekohäusle
URL;VALUE=URI:https://www.dekohaeusle.de/mc-events/kunstmarkt-schwangau-10/
 ?mc_id=424
END:VEVENT
END:VCALENDAR