BEGIN:VCALENDAR
VERSION:2.0
PRODID:spatie/icalendar-generator
DESCRIPTION:Veranstaltungen von Dekohäusle_25
X-WR-CALDESC:Veranstaltungen von Dekohäusle_25
REFRESH-INTERVAL;VALUE=DURATION:PT1440M
X-PUBLISHED-TTL:PT1440M
BEGIN:VTIMEZONE
TZID:Europe/Berlin
BEGIN:STANDARD
DTSTART:20161030T030000Z
TZOFFSETFROM:+0200
TZOFFSETTO:+0100
END:STANDARD
BEGIN:DAYLIGHT
DTSTART:20170326T020000Z
TZOFFSETFROM:+0100
TZOFFSETTO:+0200
END:DAYLIGHT
END:VTIMEZONE
BEGIN:VTIMEZONE
TZID:UTC
BEGIN:STANDARD
DTSTART:20250725T142406Z
TZOFFSETFROM:+0000
TZOFFSETTO:+0000
END:STANDARD
END:VTIMEZONE
BEGIN:VEVENT
UID:8-12
DTSTAMP:20260421T142406Z
SUMMARY:Kunstmarkt Schorndorf
LOCATION:Barbara-Künkelin Halle   Schorndorf
ORGANIZER;CN=D4rkChill3rh4x0r:MAILTO:michaelkahl@t-online.de
DTSTART;TZID=Europe/Berlin;VALUE=DATE:20170304
DTEND;TZID=Europe/Berlin;VALUE=DATE:20170306
X-ALT-DESC;FMTTYPE=TEXT/HTML:Wie jedes Jahr die erste Ausstellung der neuen
  Saison. Wir stehen an gewohntem Platz direkt vor dem Eingang zur Barbara-
 Künkelin Halle in Schorndorf.
CATEGORIES:Dekohäusle
URL;VALUE=URI:https://www.dekohaeusle.de/mc-events/kunstmarkt-schorndorf/?m
 c_id=8
END:VEVENT
END:VCALENDAR