BEGIN:VCALENDAR
VERSION:2.0
PRODID:spatie/icalendar-generator
DESCRIPTION:Veranstaltungen von Dekohäusle_25
X-WR-CALDESC:Veranstaltungen von Dekohäusle_25
REFRESH-INTERVAL;VALUE=DURATION:PT1440M
X-PUBLISHED-TTL:PT1440M
BEGIN:VTIMEZONE
TZID:Europe/Berlin
BEGIN:DAYLIGHT
DTSTART:20240331T020000Z
TZOFFSETFROM:+0100
TZOFFSETTO:+0200
END:DAYLIGHT
BEGIN:STANDARD
DTSTART:20241027T030000Z
TZOFFSETFROM:+0200
TZOFFSETTO:+0100
END:STANDARD
END:VTIMEZONE
BEGIN:VTIMEZONE
TZID:UTC
BEGIN:STANDARD
DTSTART:20250728T025234Z
TZOFFSETFROM:+0000
TZOFFSETTO:+0000
END:STANDARD
END:VTIMEZONE
BEGIN:VEVENT
UID:429-302
DTSTAMP:20260424T025234Z
SUMMARY:Kunstmarkt Oberstdorf
LOCATION:Kurpark Oberstdorfhaus   Oberstdorf  87561
ORGANIZER;CN=0Blume:MAILTO:elmi1207@googlemail.com
DTSTART;TZID=Europe/Berlin;VALUE=DATE:20240914
DTEND;TZID=Europe/Berlin;VALUE=DATE:20240916
X-ALT-DESC;FMTTYPE=TEXT/HTML:Wir stehen wie immer vor dem Oberstdorfhaus.
CATEGORIES:Dekohäusle
URL;VALUE=URI:https://www.dekohaeusle.de/mc-events/kunstmarkt-oberstdorf-15
 /?mc_id=429
END:VEVENT
END:VCALENDAR