BEGIN:VCALENDAR
VERSION:2.0
PRODID:spatie/icalendar-generator
DESCRIPTION:Veranstaltungen von Dekohäusle_25
X-WR-CALDESC:Veranstaltungen von Dekohäusle_25
REFRESH-INTERVAL;VALUE=DURATION:PT1440M
X-PUBLISHED-TTL:PT1440M
BEGIN:VTIMEZONE
TZID:Europe/Berlin
BEGIN:STANDARD
DTSTART:20161030T030000Z
TZOFFSETFROM:+0200
TZOFFSETTO:+0100
END:STANDARD
BEGIN:DAYLIGHT
DTSTART:20170326T020000Z
TZOFFSETFROM:+0100
TZOFFSETTO:+0200
END:DAYLIGHT
BEGIN:STANDARD
DTSTART:20171029T030000Z
TZOFFSETFROM:+0200
TZOFFSETTO:+0100
END:STANDARD
END:VTIMEZONE
BEGIN:VTIMEZONE
TZID:UTC
BEGIN:STANDARD
DTSTART:20250725T085818Z
TZOFFSETFROM:+0000
TZOFFSETTO:+0000
END:STANDARD
END:VTIMEZONE
BEGIN:VEVENT
UID:25-22
DTSTAMP:20260421T085818Z
SUMMARY:Kunstmarkt Kulturmühle Rechberghausen
LOCATION:
ORGANIZER;CN=Jörg Fischer:MAILTO:dekohaeusle@t-online.de
DTSTART;TZID=Europe/Berlin;VALUE=DATE:20170506
DTEND;TZID=Europe/Berlin;VALUE=DATE:20170508
X-ALT-DESC;FMTTYPE=TEXT/HTML:Schon traditionell\, findet an diesem Wochenen
 de  diese Ausstellung rund um und in der Kulturmühle Rechberghausen stat
 t.
CATEGORIES:Dekohäusle
URL;VALUE=URI:https://www.dekohaeusle.de/mc-events/kunstmarkt-kulturmuehle-
 rechberghausen/?mc_id=25
END:VEVENT
END:VCALENDAR