BEGIN:VCALENDAR
VERSION:2.0
PRODID:spatie/icalendar-generator
DESCRIPTION:Veranstaltungen von Dekohäusle_25
X-WR-CALDESC:Veranstaltungen von Dekohäusle_25
REFRESH-INTERVAL;VALUE=DURATION:PT1440M
X-PUBLISHED-TTL:PT1440M
BEGIN:VTIMEZONE
TZID:Europe/Berlin
BEGIN:DAYLIGHT
DTSTART:20240331T020000Z
TZOFFSETFROM:+0100
TZOFFSETTO:+0200
END:DAYLIGHT
BEGIN:STANDARD
DTSTART:20241027T030000Z
TZOFFSETFROM:+0200
TZOFFSETTO:+0100
END:STANDARD
END:VTIMEZONE
BEGIN:VTIMEZONE
TZID:UTC
BEGIN:STANDARD
DTSTART:20250728T010847Z
TZOFFSETFROM:+0000
TZOFFSETTO:+0000
END:STANDARD
END:VTIMEZONE
BEGIN:VEVENT
UID:428-301
DTSTAMP:20260424T010847Z
SUMMARY:Kunstmarkt Hopfen am See
LOCATION:Uferpromenade   Hopfen am See Allgäu 87629
ORGANIZER;CN=0Blume:MAILTO:elmi1207@googlemail.com
DTSTART;TZID=Europe/Berlin;VALUE=DATE:20240910
DTEND;TZID=Europe/Berlin;VALUE=DATE:20240913
X-ALT-DESC;FMTTYPE=TEXT/HTML:Wieder unter der Woche von Dienstag bis Donner
 stag findet an der Uferpromenade von Hopfen der Kunstmarkt statt.
CATEGORIES:Dekohäusle
URL;VALUE=URI:https://www.dekohaeusle.de/mc-events/kunstmarkt-hopfen-am-see
 -19/?mc_id=428
END:VEVENT
END:VCALENDAR