BEGIN:VCALENDAR
VERSION:2.0
PRODID:spatie/icalendar-generator
DESCRIPTION:Veranstaltungen von Dekohäusle_25
X-WR-CALDESC:Veranstaltungen von Dekohäusle_25
REFRESH-INTERVAL;VALUE=DURATION:PT1440M
X-PUBLISHED-TTL:PT1440M
BEGIN:VTIMEZONE
TZID:Europe/Berlin
BEGIN:STANDARD
DTSTART:20161030T030000Z
TZOFFSETFROM:+0200
TZOFFSETTO:+0100
END:STANDARD
BEGIN:DAYLIGHT
DTSTART:20170326T020000Z
TZOFFSETFROM:+0100
TZOFFSETTO:+0200
END:DAYLIGHT
BEGIN:STANDARD
DTSTART:20171029T030000Z
TZOFFSETFROM:+0200
TZOFFSETTO:+0100
END:STANDARD
END:VTIMEZONE
BEGIN:VTIMEZONE
TZID:UTC
BEGIN:STANDARD
DTSTART:20250725T115441Z
TZOFFSETFROM:+0000
TZOFFSETTO:+0000
END:STANDARD
END:VTIMEZONE
BEGIN:VEVENT
UID:45-39
DTSTAMP:20260421T115441Z
SUMMARY:Kunstmarkt Donauwörth
LOCATION:An der kleinen Wörnitz   Donauwörth  86609
ORGANIZER;CN=Jörg Fischer:MAILTO:dekohaeusle@t-online.de
DTSTART;TZID=Europe/Berlin;VALUE=DATE:20170721
DTEND;TZID=Europe/Berlin;VALUE=DATE:20170724
X-ALT-DESC;FMTTYPE=TEXT/HTML:Alle zwei Jahre findet in Donauwörth das Reic
 hsstraßenfest statt. Parallel findet an der kleinen Wörnitz der Kunsthan
 dwerkermarkt statt. Dieser geht von Freitag bis Sonntag. Das Straßenfest 
 jedoch von Donnerstag bis Samstag. Bitte beachten! &amp;nbsp\;
CATEGORIES:Dekohäusle
URL;VALUE=URI:https://www.dekohaeusle.de/mc-events/kunstmarkt-donauwoerth/?
 mc_id=45
END:VEVENT
END:VCALENDAR