BEGIN:VCALENDAR
VERSION:2.0
PRODID:spatie/icalendar-generator
DESCRIPTION:Veranstaltungen von Dekohäusle_25
X-WR-CALDESC:Veranstaltungen von Dekohäusle_25
REFRESH-INTERVAL;VALUE=DURATION:PT1440M
X-PUBLISHED-TTL:PT1440M
BEGIN:VTIMEZONE
TZID:Europe/Berlin
BEGIN:STANDARD
DTSTART:20231029T030000Z
TZOFFSETFROM:+0200
TZOFFSETTO:+0100
END:STANDARD
BEGIN:DAYLIGHT
DTSTART:20240331T020000Z
TZOFFSETFROM:+0100
TZOFFSETTO:+0200
END:DAYLIGHT
BEGIN:STANDARD
DTSTART:20241027T030000Z
TZOFFSETFROM:+0200
TZOFFSETTO:+0100
END:STANDARD
END:VTIMEZONE
BEGIN:VTIMEZONE
TZID:UTC
BEGIN:STANDARD
DTSTART:20250727T133838Z
TZOFFSETFROM:+0000
TZOFFSETTO:+0000
END:STANDARD
END:VTIMEZONE
BEGIN:VEVENT
UID:417-290
DTSTAMP:20260423T133838Z
SUMMARY:Kunstmarkt Bad Säckingen
LOCATION:Schloss Bad Säckingen   Bad Säckingen  79713
ORGANIZER;CN=0Blume:MAILTO:elmi1207@googlemail.com
DTSTART;TZID=Europe/Berlin;VALUE=DATE:20240607
DTEND;TZID=Europe/Berlin;VALUE=DATE:20240610
X-ALT-DESC;FMTTYPE=TEXT/HTML:Im Schlossparkt etwas später als gewohnt find
 et der diesjährige Kunstmarkt statt. Wie immer ohne Eintritt bei hoffentl
 ich schönem Wetter stehen wir an unserem \"eigenen kleinen See\".
CATEGORIES:Dekohäusle
URL;VALUE=URI:https://www.dekohaeusle.de/mc-events/kunstmarkt-bad-saeckinge
 n-12/?mc_id=417
END:VEVENT
END:VCALENDAR