BEGIN:VCALENDAR
VERSION:2.0
PRODID:spatie/icalendar-generator
DESCRIPTION:Veranstaltungen von Dekohäusle_25
X-WR-CALDESC:Veranstaltungen von Dekohäusle_25
REFRESH-INTERVAL;VALUE=DURATION:PT1440M
X-PUBLISHED-TTL:PT1440M
BEGIN:VTIMEZONE
TZID:Europe/Berlin
BEGIN:DAYLIGHT
DTSTART:20240331T020000Z
TZOFFSETFROM:+0100
TZOFFSETTO:+0200
END:DAYLIGHT
BEGIN:STANDARD
DTSTART:20241027T030000Z
TZOFFSETFROM:+0200
TZOFFSETTO:+0100
END:STANDARD
END:VTIMEZONE
BEGIN:VTIMEZONE
TZID:UTC
BEGIN:STANDARD
DTSTART:20250727T215249Z
TZOFFSETFROM:+0000
TZOFFSETTO:+0000
END:STANDARD
END:VTIMEZONE
BEGIN:VEVENT
UID:426-299
DTSTAMP:20260423T215249Z
SUMMARY:Käse und Kunsthandwerkermarkt Fischen im Allgäu
LOCATION:Kurhaus Fiskina   Fischen/Allgäu Bayern 87538
ORGANIZER;CN=0Blume:MAILTO:elmi1207@googlemail.com
DTSTART;TZID=Europe/Berlin;VALUE=DATE:20240831
DTEND;TZID=Europe/Berlin;VALUE=DATE:20240902
X-ALT-DESC;FMTTYPE=TEXT/HTML:Wie jedes Jahr am ersten Septemberwochenende f
 indet in der Gemeinde Fischen der Käse- und Kunsthandwerkermarkt statt. W
 ir stehen wie immer auf der Wiese nach der Brücke beim Fiskina.
CATEGORIES:Dekohäusle
URL;VALUE=URI:https://www.dekohaeusle.de/mc-events/kaese-und-kunsthandwerke
 rmarkt-fischen-im-allgaeu/?mc_id=426
END:VEVENT
END:VCALENDAR