BEGIN:VCALENDAR
VERSION:2.0
PRODID:spatie/icalendar-generator
DESCRIPTION:Veranstaltungen von Dekohäusle_25
X-WR-CALDESC:Veranstaltungen von Dekohäusle_25
REFRESH-INTERVAL;VALUE=DURATION:PT1440M
X-PUBLISHED-TTL:PT1440M
BEGIN:VTIMEZONE
TZID:Europe/Berlin
BEGIN:STANDARD
DTSTART:20231029T030000Z
TZOFFSETFROM:+0200
TZOFFSETTO:+0100
END:STANDARD
BEGIN:DAYLIGHT
DTSTART:20240331T020000Z
TZOFFSETFROM:+0100
TZOFFSETTO:+0200
END:DAYLIGHT
BEGIN:STANDARD
DTSTART:20241027T030000Z
TZOFFSETFROM:+0200
TZOFFSETTO:+0100
END:STANDARD
END:VTIMEZONE
BEGIN:VTIMEZONE
TZID:UTC
BEGIN:STANDARD
DTSTART:20250727T134006Z
TZOFFSETFROM:+0000
TZOFFSETTO:+0000
END:STANDARD
END:VTIMEZONE
BEGIN:VEVENT
UID:418-291
DTSTAMP:20260423T134006Z
SUMMARY:Januarius-Markt Murrhardt
LOCATION:Stadtgarten Murrhardt   Murrhardt  71540
ORGANIZER;CN=0Blume:MAILTO:elmi1207@googlemail.com
DTSTART;TZID=Europe/Berlin:20240608T000000
DTEND;TZID=Europe/Berlin:20240609T010000
X-ALT-DESC;FMTTYPE=TEXT/HTML:Zum 18. Mal findet in diesem Jahr der Januaris
 -Markt statt. Am Samstag um 14.00 Uhr findet die Eröffnung durch den Bür
 germeister im Stadtgarten statt und dann geht der Markt bis 22.00 Uhr. Son
 ntag ganz normal von 11.00 bis 18.00 Uhr.
CATEGORIES:Dekohäusle
URL;VALUE=URI:https://www.dekohaeusle.de/mc-events/januarius-markt-murrhard
 t/?mc_id=418
END:VEVENT
END:VCALENDAR