BEGIN:VCALENDAR
VERSION:2.0
PRODID:spatie/icalendar-generator
DESCRIPTION:Veranstaltungen von Dekohäusle_25
X-WR-CALDESC:Veranstaltungen von Dekohäusle_25
REFRESH-INTERVAL;VALUE=DURATION:PT1440M
X-PUBLISHED-TTL:PT1440M
BEGIN:VTIMEZONE
TZID:Europe/Berlin
BEGIN:DAYLIGHT
DTSTART:20240331T020000Z
TZOFFSETFROM:+0100
TZOFFSETTO:+0200
END:DAYLIGHT
BEGIN:STANDARD
DTSTART:20241027T030000Z
TZOFFSETFROM:+0200
TZOFFSETTO:+0100
END:STANDARD
END:VTIMEZONE
BEGIN:VTIMEZONE
TZID:UTC
BEGIN:STANDARD
DTSTART:20250727T215448Z
TZOFFSETFROM:+0000
TZOFFSETTO:+0000
END:STANDARD
END:VTIMEZONE
BEGIN:VEVENT
UID:425-298
DTSTAMP:20260423T215448Z
SUMMARY:Isny macht blau - Isnyer Leinen- Kunsthandwerkermarkt
LOCATION:Kurpark Isny   Isny/Allgäu  88316
ORGANIZER;CN=0Blume:MAILTO:elmi1207@googlemail.com
DTSTART;TZID=Europe/Berlin;VALUE=DATE:20240823
DTEND;TZID=Europe/Berlin;VALUE=DATE:20240826
X-ALT-DESC;FMTTYPE=TEXT/HTML:Wenn der blaue Teppich liegt\, die Straßen bl
 au erleuchten und hinter jeder Ecke ein blaues Spektakel wartet – dann m
 acht Isny blau und erinnert an den Flachs\, der einst zu Freiheit und Wohl
 stand führte. An diesen Tagen verwandelt sich die Innenstadt in eine Büh
 ne: für Stadtgeschichte und modernes Leben\, für Einkaufserlebnisse und 
 kulinarische Genüsse\, für&amp;hellip\;
CATEGORIES:Dekohäusle
URL;VALUE=URI:https://www.dekohaeusle.de/mc-events/isny-macht-blau-isnyer-l
 einen-kunsthandwerkermarkt/?mc_id=425
END:VEVENT
END:VCALENDAR