BEGIN:VCALENDAR
VERSION:2.0
PRODID:spatie/icalendar-generator
DESCRIPTION:Veranstaltungen von Dekohäusle_25
X-WR-CALDESC:Veranstaltungen von Dekohäusle_25
REFRESH-INTERVAL;VALUE=DURATION:PT1440M
X-PUBLISHED-TTL:PT1440M
BEGIN:VTIMEZONE
TZID:Europe/Berlin
BEGIN:STANDARD
DTSTART:20161030T030000Z
TZOFFSETFROM:+0200
TZOFFSETTO:+0100
END:STANDARD
BEGIN:DAYLIGHT
DTSTART:20170326T020000Z
TZOFFSETFROM:+0100
TZOFFSETTO:+0200
END:DAYLIGHT
END:VTIMEZONE
BEGIN:VTIMEZONE
TZID:UTC
BEGIN:STANDARD
DTSTART:20250723T133042Z
TZOFFSETFROM:+0000
TZOFFSETTO:+0000
END:STANDARD
END:VTIMEZONE
BEGIN:VEVENT
UID:21-19
DTSTAMP:20260419T133042Z
SUMMARY:Frühlingsmarkt Laichingen
LOCATION:Laichingen Weberstraße  Laichingen  89150
ORGANIZER;CN=Jörg Fischer:MAILTO:dekohaeusle@t-online.de
DTSTART;TZID=Europe/Berlin;VALUE=DATE:20170417
DTEND;TZID=Europe/Berlin;VALUE=DATE:20170418
X-ALT-DESC;FMTTYPE=TEXT/HTML:Auch Ostermontag sind wir auf einer Ausstellun
 g. In Laichingen findet der Frühlingsmarkt immer an diesem Tag statt. Zwi
 schen Gemüse\, Obst\, Besenstielen einem Vieh-und großen Flohmarkt\, hab
 en auch wir unseren Platz in der Weberstrasse gefunden. Seit vielen Jahren
  sind wir dabei. Durch die Größe und die Anzahl der Stände ist bestimmt
  für jeden was dabei.
CATEGORIES:Dekohäusle
URL;VALUE=URI:https://www.dekohaeusle.de/mc-events/fruehlingsmarkt-laiching
 en/?mc_id=21
END:VEVENT
END:VCALENDAR