BEGIN:VCALENDAR
VERSION:2.0
PRODID:spatie/icalendar-generator
DESCRIPTION:Veranstaltungen von Dekohäusle_25
X-WR-CALDESC:Veranstaltungen von Dekohäusle_25
REFRESH-INTERVAL;VALUE=DURATION:PT1440M
X-PUBLISHED-TTL:PT1440M
BEGIN:VTIMEZONE
TZID:Europe/Berlin
BEGIN:STANDARD
DTSTART:20231029T030000Z
TZOFFSETFROM:+0200
TZOFFSETTO:+0100
END:STANDARD
BEGIN:DAYLIGHT
DTSTART:20240331T020000Z
TZOFFSETFROM:+0100
TZOFFSETTO:+0200
END:DAYLIGHT
BEGIN:STANDARD
DTSTART:20241027T030000Z
TZOFFSETFROM:+0200
TZOFFSETTO:+0100
END:STANDARD
END:VTIMEZONE
BEGIN:VTIMEZONE
TZID:UTC
BEGIN:STANDARD
DTSTART:20250727T183045Z
TZOFFSETFROM:+0000
TZOFFSETTO:+0000
END:STANDARD
END:VTIMEZONE
BEGIN:VEVENT
UID:421-294
DTSTAMP:20260423T183045Z
SUMMARY:Bocksberger Burgmarkt
LOCATION:Burg Bocksberg   Bocksberg Laugna  86502
ORGANIZER;CN=0Blume:MAILTO:elmi1207@googlemail.com
DTSTART;TZID=Europe/Berlin:20240622T000000
DTEND;TZID=Europe/Berlin:20240623T010000
X-ALT-DESC;FMTTYPE=TEXT/HTML:Auch dieses Jahr wieder einer unserer Highligh
 ts im Veranstaltungskalender\, der Burgmarkt in Bocksberg. Bereits auch zu
 m 18. Mal findet an und um die Burgruine der bekannte und beliebte Markt s
 tatt\, wir stehen wie immer nach dem ersten \"Anstieg\" rechts noch vor de
 m großen Tor.
CATEGORIES:Dekohäusle
URL;VALUE=URI:https://www.dekohaeusle.de/mc-events/bocksberger-burgmarkt/?m
 c_id=421
END:VEVENT
END:VCALENDAR